BEGIN:VCALENDAR
VERSION:2.0
PRODID:-//Факультет государственного управления - ECPv6.15.20//NONSGML v1.0//EN
CALSCALE:GREGORIAN
METHOD:PUBLISH
X-WR-CALNAME:Факультет государственного управления
X-ORIGINAL-URL:https://spa.msu.ru
X-WR-CALDESC:Мероприятия для Факультет государственного управления
REFRESH-INTERVAL;VALUE=DURATION:PT1H
X-Robots-Tag:noindex
X-PUBLISHED-TTL:PT1H
BEGIN:VTIMEZONE
TZID:Europe/Moscow
BEGIN:STANDARD
TZOFFSETFROM:+0300
TZOFFSETTO:+0300
TZNAME:MSK
DTSTART:20230101T000000
END:STANDARD
END:VTIMEZONE
BEGIN:VEVENT
DTSTART;TZID=Europe/Moscow:20241203T080000
DTEND;TZID=Europe/Moscow:20241207T170000
DTSTAMP:20260423T192318
CREATED:20241106T183418Z
LAST-MODIFIED:20241106T183418Z
UID:31893-1733212800-1733590800@spa.msu.ru
SUMMARY:XXI Международная конференция «Государственное управление в условиях новых вызовов»
DESCRIPTION:В работе конференции примут участие российские и зарубежные ученые\, представители органов государственной власти и управления\, эксперты\, журналисты\, преподаватели\, аспиранты. \nПленарное заседание конференции состоится 3 декабря 2024 года и будет посвящено теме «Ценностные ориентиры в системе общественных наук и государственном управлении». В ходе заседания планируется обсудить основные задачи и достижения процесса пересмотра системных основ гуманитарных дисциплин и сферы государственного управления\, связанных как с развитием ценностных составляющих в жизни общества\, так и с обновлением принципов подготовки государственных служащих. \nВ рамках конференции планируются следующие секции: \n\nБРИКС и многополярный мир;\nАктуальные правовые проблемы организации публичной власти и управления;\nГосударственная национальная политика в условиях геополитической турбулентности: основные направления развития;\nФормирование иноязычной профессиональной компетентности будущих управленцев в новом технологическом контексте;\nЭффективность и рациональное использование природных ресурсов в экономике России и мира в условиях новых вызовов;\nГлобальные вызовы мировой экономики;\nСовременные практики регионального и муниципального управления;\nСоциальная политика в условиях новых вызовов: повестка дня для России;\nФормирование современных цифровых компетенций студентов\, обучающихся по направлению подготовки «Государственное и муниципальное управление»;\nУстойчивое развитие бизнеса в условиях новых геоэкономических и геополитических вызовов;\nГосударственная политика в условиях геополитического поворота;\nЛюди Московского университета в истории российского управления;\nПередовые технологии и практики управления персоналом в государственных и коммерческих организациях современной России;\nКибернетическое планирование экономики в реализации ценностных ориентиров;\nАдаптация и развитие современного государственного управления в условиях шокового воздействия;\nРесурсы инновационного развития России и потенциал их использования в условиях формирования нового мирового порядка;\nЦенности в гуманитарных науках: перспективы междисциплинарного анализа;\nНововведения в государственном управлении: примеры из разных стран;\nRecent Innovations in Public Administration: Cases from Different Countries.\n\nПланируется издание сборника трудов в электронной форме\, который будет размещен в системе РИНЦ. \nЗаочное участие в конференции не предусмотрено. Информация о сроках и порядке представления статей к публикации\, требованиях к статьям и условиях публикации будет опубликована на странице конференции.
URL:https://spa.msu.ru/event/xxi-mezhdunarodnaya-konferencziya-gosudarstvennoe-upravlenie-v-usloviyah-novyh-vyzovov/
END:VEVENT
END:VCALENDAR