BEGIN:VCALENDAR
VERSION:2.0
PRODID:-//Факультет государственного управления - ECPv6.15.20//NONSGML v1.0//EN
CALSCALE:GREGORIAN
METHOD:PUBLISH
X-ORIGINAL-URL:https://spa.msu.ru
X-WR-CALDESC:Мероприятия для Факультет государственного управления
REFRESH-INTERVAL;VALUE=DURATION:PT1H
X-Robots-Tag:noindex
X-PUBLISHED-TTL:PT1H
BEGIN:VTIMEZONE
TZID:Europe/Moscow
BEGIN:STANDARD
TZOFFSETFROM:+0300
TZOFFSETTO:+0300
TZNAME:MSK
DTSTART:20230101T000000
END:STANDARD
END:VTIMEZONE
BEGIN:VEVENT
DTSTART;TZID=Europe/Moscow:20241123T110000
DTEND;TZID=Europe/Moscow:20241123T200000
DTSTAMP:20260424T091133
CREATED:20241029T182440Z
LAST-MODIFIED:20241029T182559Z
UID:31545-1732359600-1732392000@spa.msu.ru
SUMMARY:Форум выпускников ФГУ
DESCRIPTION:Мероприятие включает в себя торжественное пленарное заседание и деловую сессию по различным направлениям\, в рамках которых у выпускников есть возможность выступить в качестве спикеров или слушателей. Форум посвящен 270-летию Московского университета. \nНаправления: \n\nПолитика и государственное управление;\nБизнес и устойчивое развитие в условиях турбулентности (корпорации\, консалтинг\, стартапы);\nМеждународная повестка;\nЦифровые технологии;\nГражданский сектор (некоммерческие организации\, социальное предпринимательство и т.д.);\nСекция HR и формирование профессиональных траекторий;\nКультура\, мода и искусство;\nЛичностный рост\, work-life баланс.\n\nПосле деловой программы Форума состоится вечеринка! \nСсылка на регистрацию
URL:https://spa.msu.ru/event/forum-vypusknikov-fgu/
LOCATION:Инновационный кластер «Ломоносов»\, г. Москва\, Раменский бул.\, 1
END:VEVENT
END:VCALENDAR