BEGIN:VCALENDAR
VERSION:2.0
PRODID:-//Факультет государственного управления - ECPv6.15.20//NONSGML v1.0//EN
CALSCALE:GREGORIAN
METHOD:PUBLISH
X-WR-CALNAME:Факультет государственного управления
X-ORIGINAL-URL:https://spa.msu.ru
X-WR-CALDESC:Мероприятия для Факультет государственного управления
REFRESH-INTERVAL;VALUE=DURATION:PT1H
X-Robots-Tag:noindex
X-PUBLISHED-TTL:PT1H
BEGIN:VTIMEZONE
TZID:Europe/Moscow
BEGIN:STANDARD
TZOFFSETFROM:+0300
TZOFFSETTO:+0300
TZNAME:MSK
DTSTART:20230101T000000
END:STANDARD
END:VTIMEZONE
BEGIN:VEVENT
DTSTART;TZID=Europe/Moscow:20241120T170000
DTEND;TZID=Europe/Moscow:20241120T190000
DTSTAMP:20260423T100237
CREATED:20241113T141628Z
LAST-MODIFIED:20241113T145736Z
UID:32001-1732122000-1732129200@spa.msu.ru
SUMMARY:Круглый стол "Нормотворческий процесс в федеральных органах исполнительной власти"
DESCRIPTION:20 ноября в 17:00 на факультете в гибридном формате пройдет круглый стол\, посвященный актуальным вопросам нормотворческого процесса в федеральных органах исполнительной власти. \nОрганизаторы мероприятия: GR-Клуб МГУ совместно с кафедрой правовых основ управления ФГУ. \nВ рамках круглого стола будут обсуждаться современные тенденции и вызовы в области разработки нормативных актов\, а также способы повышения эффективности взаимодействия бизнеса и государственных структур в нормотворческой деятельности. \nПриглашенный эксперт:\nАнтон Плесков — выпускник ФГУ\, генеральный директор GR-агентства «GAIn»\, директор по взаимодействию с органами государственной власти ПАО «Элемент»\, член экспертного совета по развитию электронной и радиоэлектронной промышленности Государственной думы ФС РФ\, имеет опыт работы в Министерстве экономического развития РФ более 10 лет. Является автором более 50 и соавтором более 100 нормативных правовых актов\, в том числе международных документов. Эксперт поделится опытом успешного взаимодействия бизнеса и государства в части нормотворческого процесса на федеральном уровне. \nМодераторами круглого стола выступят:\n• Иван Лексин — заведующий кафедрой правовых основ управления ФГУ МГУ\, д.ю.н\, доцент;\n• Мария Сухарева — сотрудник Центра карьеры ФГУ\, к.экон.н.\, ассистент кафедры экономики инновационного развития ФГУ МГУ;\n• Татьяна Годило — президент GR-Клуба МГУ\, студент магистратуры ФГУ\, сотрудник отдела аспирантуры ФГУ МГУ. \nКруглый стол будет полезен для студентов последних курсов\, аспирантов\, преподавателей\, а также специалистов в области государственного управления и права\, GR-специалистам. \nУчастие бесплатное. \nВнешним слушателям будет организовано дистанционное подключение (ссылка для подключения будет направлена в день проведения мероприятия зарегистрированным участникам). \nРегистрация \nМесто проведения: факультет государственного управления МГУ имени М.В.Ломоносова\, ауд. Е-834. \nКруглый стол проводится в рамках мероприятий\, посвященных празднованию 270-летнего юбилея Московского государственного университета имени М.В.Ломоносова. \nПриглашаем принять участие студентов\, не занятых в учебном процессе!
URL:https://spa.msu.ru/event/kruglyj-stol-normotvorcheskij-proczess-v-federalnyh-organah-ispolnitelnoj-vlasti/
LOCATION:Е-834
END:VEVENT
BEGIN:VEVENT
DTSTART;TZID=Europe/Moscow:20241120T190000
DTEND;TZID=Europe/Moscow:20241120T200000
DTSTAMP:20260423T100237
CREATED:20241106T183304Z
LAST-MODIFIED:20241106T183304Z
UID:31891-1732129200-1732132800@spa.msu.ru
SUMMARY:Круглый стол «Франко-российские отношения: вчера\, сегодня\, завтра»
DESCRIPTION:20 ноября 2024 года (среда) в 19 часов кафедрой иностранных языков будет организован круглый стол «Les relations franco-russes: hier\, aujourd’hui et demain» («Франко-российские отношения: вчера\, сегодня\, завтра») в рамках ежегодной встречи с господином Борисом Бервьялем (Monsieur  Boris Bervialle)\, бывшим представителем Торгово-промышленной Палаты Франции в Москве\, а в настоящее время представителем мэрии города Дижон (Бургундия\, Франция). \nРабочий язык – французский. Приглашаются все желающие. \nМероприятие пройдет в онлайн формате\, ссылка для подключения.
URL:https://spa.msu.ru/event/kruglyj-stol-franko-rossijskie-otnosheniya-vchera-segodnya-zavtra/
END:VEVENT
END:VCALENDAR